BEGIN:VCALENDAR
VERSION:2.0
PRODID:-//ADJSP 67 - ECPv6.15.18//NONSGML v1.0//EN
CALSCALE:GREGORIAN
METHOD:PUBLISH
X-WR-CALNAME:ADJSP 67
X-ORIGINAL-URL:https://www.adjsp67.fr
X-WR-CALDESC:Évènements pour ADJSP 67
REFRESH-INTERVAL;VALUE=DURATION:PT1H
X-Robots-Tag:noindex
X-PUBLISHED-TTL:PT1H
BEGIN:VTIMEZONE
TZID:Europe/Paris
BEGIN:DAYLIGHT
TZOFFSETFROM:+0100
TZOFFSETTO:+0200
TZNAME:CEST
DTSTART:20240331T010000
END:DAYLIGHT
BEGIN:STANDARD
TZOFFSETFROM:+0200
TZOFFSETTO:+0100
TZNAME:CET
DTSTART:20241027T010000
END:STANDARD
BEGIN:DAYLIGHT
TZOFFSETFROM:+0100
TZOFFSETTO:+0200
TZNAME:CEST
DTSTART:20250330T010000
END:DAYLIGHT
BEGIN:STANDARD
TZOFFSETFROM:+0200
TZOFFSETTO:+0100
TZNAME:CET
DTSTART:20251026T010000
END:STANDARD
BEGIN:DAYLIGHT
TZOFFSETFROM:+0100
TZOFFSETTO:+0200
TZNAME:CEST
DTSTART:20260329T010000
END:DAYLIGHT
BEGIN:STANDARD
TZOFFSETFROM:+0200
TZOFFSETTO:+0100
TZNAME:CET
DTSTART:20261025T010000
END:STANDARD
END:VTIMEZONE
BEGIN:VEVENT
DTSTART;TZID=Europe/Paris:20251115T130000
DTEND;TZID=Europe/Paris:20251115T170000
DTSTAMP:20260423T194602
CREATED:20251108T090015Z
LAST-MODIFIED:20251108T090056Z
UID:3485-1763211600-1763226000@www.adjsp67.fr
SUMMARY:CROSS DÉPARTEMENTAL DES SAPEURS-POMPIERS ET DES JEUNES SAPEURS-POMPIERS DU BAS-RHIN
DESCRIPTION:Le prochain cross départemental des sapeurs-pompiers et des jeunes sapeurs-pompiers du Bas-Rhin  \nse déroulera samedi 15 novembre 2025 à Oberhausbergen. \n\n\n\n\nProgramme des courses (Provisoire)\n\n\n\n\n13 h 15 – Vétérans 1 masculins : 8 km\n14 h 00 – Séniors masculins : 10 km\n14 h 45 – Vétérans 2 masculins / Juniors masculins : 6 km\n15 h 30 – Cadets féminins/ masculins\, juniors /séniors féminins\, vétérans féminins : 5 km\n16 h 00 – Minimes féminins/ masculins : 3 km\n16 h 30 – Benjamins féminins/ masculins : 1\,5 km\n\n\n\n\n\n\n  \n\n\n\n\n\nModalités d’inscriptions\n\n\n\n\nLes jeunes sapeurs-pompiers des sections du département seront inscrits nominativement sur le site www.performance67.com par les responsables pédagogiques des sections de JSP. L’ADJSP 67 fera parvenir les fiches « six volets » de chaque JSP inscrit au bureau du maintien de la condition physique BMCP . \ndate limite des inscriptions : non connu pour le moment
URL:https://www.adjsp67.fr/event/cross-departemental-des-sapeurs-pompiers-et-des-jeunes-sapeurs-pompiers-du-bas-rhin-4/
LOCATION:Oberhausbergen\, France
CATEGORIES:sport
ATTACH;FMTTYPE=image/jpeg:https://www.adjsp67.fr/wp-content/uploads/2023/02/LOGO_CROSS_.jpg
END:VEVENT
END:VCALENDAR